BEGIN:VCALENDAR
VERSION:2.0
PRODID:-//wp-events-plugin.com//7.0.4//EN
BEGIN:VEVENT
UID:9@iitagh.org
DTSTART:20230915T000000Z
DTEND:20230915T013000Z
DTSTAMP:20241025T155026Z
URL:https://www.iitagh.org/events/webinar-with-ram-iyer-making-smart-peopl
 e-more-successful
SUMMARY:Webinar with RAM IYER: “Making SMART people more SUCCESSFUL”
DESCRIPTION:Join us for an exclusive webinar hosted by IIT Alumni of Greate
 r Houston [IITAGH]\, in collaboration with Ram\nIyer. Don’t miss this op
 portunity to gain valuable insights to greater success.
LOCATION:https://www.businessthinking.com/assessments/is-your-smartness-ena
 bling-or-disabling-your-success/
END:VEVENT
END:VCALENDAR