BEGIN:VCALENDAR
VERSION:2.0
PRODID:-//wp-events-plugin.com//7.0.4//EN
BEGIN:VEVENT
UID:6@iitagh.org
DTSTART:20230729T150000Z
DTEND:20230729T160000Z
DTSTAMP:20241025T152836Z
URL:https://www.iitagh.org/events/market-driven-investments-in-agriculture
 -healthcare-and-education
SUMMARY:Market-Driven Investments in Agriculture\, Healthcare\, and Educati
 on
DESCRIPTION:Join us for an exclusive webinar hosted by IIT Alumni of Greate
 r Houston [IITAGH] in collaboration with Menterra Venture Advisors.\nDisco
 ver how this leading social impact fund is driving positive change in Indi
 a. Gain invaluable insights and actionable strategies from\nour exceptiona
 l speakers. Don't miss this opportunity to be inspired and equipped to mak
 e a real difference!
END:VEVENT
END:VCALENDAR