BEGIN:VCALENDAR
VERSION:2.0
PRODID:-//wp-events-plugin.com//7.0.4//EN
BEGIN:VEVENT
UID:10@iitagh.org
DTSTART:20240803T160000Z
DTEND:20240803T190000Z
DTSTAMP:20241025T155513Z
URL:https://www.iitagh.org/events/iitagh-bridge-workshop
SUMMARY:IITAGH Bridge Workshop
DESCRIPTION:Join us for a free\, engaging\, and educational\nIITAGH Bridge 
 Workshop\nled by a seasoned IIT alumnus with extensive experience in teach
 ing and playing bridge.
LOCATION:HONEST RESTAURAN\, 5901 Hillcroft Ave STE B-1\, Houston\, Texas\, 
  TX 77036 \, United States
X-APPLE-STRUCTURED-LOCATION;VALUE=URI;X-ADDRESS=5901 Hillcroft Ave STE B-1\
 , Houston\, Texas\,  TX 77036 \, United States;X-APPLE-RADIUS=100;X-TITLE=
 HONEST RESTAURAN:geo:0,0
END:VEVENT
END:VCALENDAR