BEGIN:VCALENDAR
VERSION:2.0
PRODID:-//wp-events-plugin.com//7.0.4//EN
BEGIN:VEVENT
UID:11@iitagh.org
DTSTART:20241116T180000Z
DTEND:20241116T210000Z
DTSTAMP:20241025T160023Z
URL:https://www.iitagh.org/events/iitagh-annual-picnic-2024
SUMMARY:IITAGH Annual Picnic 2024
DESCRIPTION:Reserve Your Spot for the Ultimate Fun!\nJoin us for an excitin
 g Bollywood Trivia game and savor delectable food. It's the perfect time t
 o reconnect with\nfriends\, have a blast\, and bask in the beautiful weath
 er.
LOCATION:Lost Creek State Park\, 3703 Lost Creek Blvd  \, Sugar Land\, Texa
 s\, TX 77478\, United States
X-APPLE-STRUCTURED-LOCATION;VALUE=URI;X-ADDRESS=3703 Lost Creek Blvd  \, Su
 gar Land\, Texas\, TX 77478\, United States;X-APPLE-RADIUS=100;X-TITLE=Los
 t Creek State Park:geo:0,0
END:VEVENT
END:VCALENDAR