BEGIN:VCALENDAR
VERSION:2.0
PRODID:-//wp-events-plugin.com//7.0.4//EN
BEGIN:VEVENT
UID:8@iitagh.org
DTSTART:20230926T000000Z
DTEND:20230926T020000Z
DTSTAMP:20241025T154629Z
URL:https://www.iitagh.org/events/dinner-and-discussion-with-rahul-mehta
SUMMARY:Dinner and Discussion with RAHUL MEHTA
DESCRIPTION:Join us for an exclusive dinner hosted by IIT Alumni of Greater
  Houston [IITAGH]\, where we will learn about the\nextraordinary contribut
 ions of “RAHUL MEHTA.” This captivating evening promises to inspire an
 d cultivate a spirit\nof giving back.
LOCATION:Nirvana Indian Restaurant\, 14545 Memorial Dr \, Houston\, Texas\,
  TX 77079\, United States
X-APPLE-STRUCTURED-LOCATION;VALUE=URI;X-ADDRESS=14545 Memorial Dr \, Housto
 n\, Texas\, TX 77079\, United States;X-APPLE-RADIUS=100;X-TITLE=Nirvana In
 dian Restaurant:geo:0,0
END:VEVENT
END:VCALENDAR