BEGIN:VCALENDAR
VERSION:2.0
PRODID:-//wp-events-plugin.com//7.0.4//EN
BEGIN:VEVENT
UID:5@iitagh.org
DTSTART:20230804T000000Z
DTEND:20230804T020000Z
DTSTAMP:20241025T151351Z
URL:https://www.iitagh.org/events/dinner-and-discussion-with-amitava-bhatt
 acharya
SUMMARY:Dinner and Discussion with AMITAVA BHATTACHARYA
DESCRIPTION:Join us for an exclusive dinner hosted by IIT Alumni of Greater
  Houston [IITAGH]\, where we will learn about the\nextraordinary contribut
 ions of an IIT KGP Alumni – “AMITAVA BHATTACHARYA.” This captivating
  evening\npromises to inspire and cultivate a spirit of giving back
LOCATION:Indian Summer\, 16260 Kensington Dr suite b\,\, Sugar Land\, Texas
 \, TX 77478 \, United States
X-APPLE-STRUCTURED-LOCATION;VALUE=URI;X-ADDRESS=16260 Kensington Dr suite b
 \,\, Sugar Land\, Texas\, TX 77478 \, United States;X-APPLE-RADIUS=100;X-T
 ITLE=Indian Summer:geo:0,0
END:VEVENT
END:VCALENDAR